BEGIN:VCALENDAR
VERSION:2.0
PRODID:-//franzbewegt - ECPv6.15.20//NONSGML v1.0//EN
CALSCALE:GREGORIAN
METHOD:PUBLISH
X-ORIGINAL-URL:https://franzbewegt.at
X-WR-CALDESC:Veranstaltungen für franzbewegt
REFRESH-INTERVAL;VALUE=DURATION:PT1H
X-Robots-Tag:noindex
X-PUBLISHED-TTL:PT1H
BEGIN:VTIMEZONE
TZID:Europe/Berlin
BEGIN:DAYLIGHT
TZOFFSETFROM:+0100
TZOFFSETTO:+0200
TZNAME:CEST
DTSTART:20250330T010000
END:DAYLIGHT
BEGIN:STANDARD
TZOFFSETFROM:+0200
TZOFFSETTO:+0100
TZNAME:CET
DTSTART:20251026T010000
END:STANDARD
BEGIN:DAYLIGHT
TZOFFSETFROM:+0100
TZOFFSETTO:+0200
TZNAME:CEST
DTSTART:20260329T010000
END:DAYLIGHT
BEGIN:STANDARD
TZOFFSETFROM:+0200
TZOFFSETTO:+0100
TZNAME:CET
DTSTART:20261025T010000
END:STANDARD
BEGIN:DAYLIGHT
TZOFFSETFROM:+0100
TZOFFSETTO:+0200
TZNAME:CEST
DTSTART:20270328T010000
END:DAYLIGHT
BEGIN:STANDARD
TZOFFSETFROM:+0200
TZOFFSETTO:+0100
TZNAME:CET
DTSTART:20271031T010000
END:STANDARD
END:VTIMEZONE
BEGIN:VEVENT
DTSTART;VALUE=DATE:20260622
DTEND;VALUE=DATE:20260629
DTSTAMP:20260421T195055
CREATED:20260410T211125Z
LAST-MODIFIED:20260411T144149Z
UID:1161-1782086400-1782691199@franzbewegt.at
SUMMARY:Via Valtellina
DESCRIPTION:Die Wanderung beginnt in Gargellen – Vorarlberg und führt durch atemberaubende Gebirgslandschaften durch die Schweiz\, nach Tirano in Italien.  \nGeschichtsträchtige Passübergänge\, großartige Weinberg-Terrassen im Valtellina Tal und eine Rückreise auf der berühmten Bernina Weltkulturerbe-Strecke mit der Rhätischen Bahn. Übernachtungen in ausgewählten Hotels und einer Alp-Übernachtung. \nTeilnehmeranzahl: Min. 6 Max. 9 \nNoch vier freie Plätze! \nAnmeldeschluss: 30.04.26 \nEtappenplan anfordern office@franzbewegt.at // +43 699 19474800
URL:https://franzbewegt.at/event/via-valtellina/
ATTACH;FMTTYPE=image/jpeg:https://franzbewegt.at/wp-content/uploads/2025/12/20220629_170123_resized.jpg
ORGANIZER;CN="Franz Ressmann":MAILTO:office@franzbewegt.at
END:VEVENT
END:VCALENDAR